BEGIN:VCALENDAR
VERSION:2.0
BEGIN:VEVENT
URL:https://tickets.alleventcruises.com.au/outlet/event/3177ebd7-bda1-4729-81e6-f254fbc67610
DTSTART:20260718T020000Z
DTEND:20260718T020000Z
SUMMARY:Murder Mystery Cruise | 3 Course Lunch | Newcastle Harbour
DESCRIPTION:Event details: https://tickets.alleventcruises.com.au/outlet/event/3177ebd7-bda1-4729-81e6-f254fbc67610
LOCATION:Calmer (Newcastle - Queens Wharf Ferry Terminal) (Newcastle, NSW)
END:VEVENT
END:VCALENDAR