BEGIN:VCALENDAR
VERSION:2.0
BEGIN:VEVENT
URL:https://tickets.alleventcruises.com.au/outlet/event/d88f937f-465b-4651-98ae-acbff05a9058
DTSTART:20260725T073000Z
DTEND:20260725T073000Z
SUMMARY:Christmas In July | Dinner Cruise | Newcastle Harbour
DESCRIPTION:Event details: https://tickets.alleventcruises.com.au/outlet/event/d88f937f-465b-4651-98ae-acbff05a9058
LOCATION:Calmer (Newcastle - Queens Wharf Ferry Terminal) (Newcastle, NSW)
END:VEVENT
END:VCALENDAR