BEGIN:VCALENDAR
VERSION:2.0
BEGIN:VEVENT
URL:https://tickets.alleventcruises.com.au/outlet/event/f68418d9-3a1a-4abf-8279-37039b43fd91
DTSTART:20260509T090000Z
DTEND:20260509T090000Z
SUMMARY:Grease vs Rocky Horror - The ultimate musical mashup
DESCRIPTION:Event details: https://tickets.alleventcruises.com.au/outlet/event/f68418d9-3a1a-4abf-8279-37039b43fd91
LOCATION:Calmer (Newcastle - Queens Wharf Ferry Terminal) (Newcastle, NSW)
END:VEVENT
END:VCALENDAR